BEGIN:VCALENDAR
VERSION:2.0
PRODID:-//sight airedale - ECPv6.13.2.1//NONSGML v1.0//EN
CALSCALE:GREGORIAN
METHOD:PUBLISH
X-ORIGINAL-URL:https://www.sightairedale.org.uk
X-WR-CALDESC:Events for sight airedale
REFRESH-INTERVAL;VALUE=DURATION:PT1H
X-Robots-Tag:noindex
X-PUBLISHED-TTL:PT1H
BEGIN:VTIMEZONE
TZID:UTC
BEGIN:STANDARD
TZOFFSETFROM:+0000
TZOFFSETTO:+0000
TZNAME:UTC
DTSTART:20210101T000000
END:STANDARD
END:VTIMEZONE
BEGIN:VEVENT
DTSTART;TZID=UTC:20260319T131500
DTEND;TZID=UTC:20260319T160000
DTSTAMP:20260423T103013
CREATED:20260306T122839Z
LAST-MODIFIED:20260306T122845Z
UID:1435-1773926100-1773936000@www.sightairedale.org.uk
SUMMARY:Film Club - Fisherman's Friends - Audio Described Showing
DESCRIPTION:Join us for our first Audio Described Film Screening of Fisherman’s Friends – Audio description is a narration track added to films that verbally describes visual elements — such as actions\, settings\, and on-screen text — for viewers who are blind or have low vision. \n\n\n\nA fast living\, cynical London music executive (Daniel Mays) heads to a remote Cornish village on a stag weekend where he’s pranked by his boss (Noel Clarke) into trying to sign a group of shanty singing fishermen (led by James Purefoy). He becomes the ultimate “fish out of water” as he struggles to gain the respect or enthusiasm of the unlikely boy band and their families (including Tuppence Middleton)\, who value friendship and community over fame and fortune. As he’s drawn deeper into the traditional way of life he’s forced to reevaluate his own integrity and ultimately question what success really means. \n\n\n\nFree Admission and Refreshments\, though donations appreciated – To book your place\, contact the helpline on 01535 602354
URL:https://www.sightairedale.org.uk/event/film-club-fishermans-friends-audio-described-showing
LOCATION:Lena Anderton Meeting Room\, 31 Scott Street\, Keighley\, West Yorkshire\, BD21 2JH\, United Kingdom
END:VEVENT
BEGIN:VEVENT
DTSTART;TZID=UTC:20250712T100000
DTEND;TZID=UTC:20250712T130000
DTSTAMP:20260423T103013
CREATED:20250619T090846Z
LAST-MODIFIED:20250620T101216Z
UID:1408-1752314400-1752325200@www.sightairedale.org.uk
SUMMARY:Summer Coffee Morning
DESCRIPTION:People living with sight loss and their families will be able to see what support is available when local sight loss charity Sight Airedale holds its annual Coffee Morning on Saturday 12 July\, at 31 Scott Street\, Keighley.  The event will run from 10 am to 1 pm. Admission is by donation\, which includes refreshments. \n\n\n\nProducts on show will include the latest magnifiers and reading machines from Optelec (a supplier of low vision aids) and products from the charity’s daily living shop designed to help around the home\, such as big button phones\, talking clocks and watches\, kitchen aids and lighting. New for this year include a talking Air Fryer\, a talking Induction Hob and a Talking Mobile phone.   \n\n\n\nVisitors will be able to learn about the services the charity offers whilst enjoying refreshments\, a raffle including prizes donated by Keighley Sainsburys and the Keighley Playhouse\, a Used Visually Impaired Equipment Stall\, and a New 2 U stall.  
URL:https://www.sightairedale.org.uk/event/summer-coffee-morning
LOCATION:Lena Anderton Meeting Room\, 31 Scott Street\, Keighley\, BD21 2AT\, 31 Scott Street\, Keighley\, West Yorkshire\, BD21 2JH\, United Kingdom
END:VEVENT
BEGIN:VEVENT
DTSTART;TZID=UTC:20230715T100000
DTEND;TZID=UTC:20230715T150000
DTSTAMP:20260423T103013
CREATED:20230703T110358Z
LAST-MODIFIED:20230703T110527Z
UID:1243-1689415200-1689433200@www.sightairedale.org.uk
SUMMARY:Sight Information Day
DESCRIPTION:Why not come along to our sight information day on Saturday 15 July from 10 am to 3pm. Learn about products designed to make life with sight loss easier. \n\n\n\n\nBig Button Telephones\n\n\n\nTalking Clocks and Watches\n\n\n\nKitchen Aids\n\n\n\nHand Held Magnifiers\n\n\n\nElectronic Magnifiers\n\n\n\nReading Machines\n\n\n\n\nMark Silver from Optelec will also be attending with their range of Magnifiers and reading machines.
URL:https://www.sightairedale.org.uk/event/1243
LOCATION:The Lena Anderton Meeting Room\, 31 Scott Street\, Keighley\, West Yorkshire\, BD21 2JH\, United Kingdom
END:VEVENT
BEGIN:VEVENT
DTSTART;TZID=UTC:20230429T100000
DTEND;TZID=UTC:20230429T150000
DTSTAMP:20260423T103013
CREATED:20230421T120012Z
LAST-MODIFIED:20230421T120014Z
UID:1198-1682762400-1682780400@www.sightairedale.org.uk
SUMMARY:Coronation Cream Tea - 10am to 3pm
DESCRIPTION:Admission .50p Cream Tea £3 \n\n\n\nJoin us in celebrating the Coronation of King Charles III on Saturday\, 29 April\, at the Lena Anderton Meeting Room\, 31 Scott Street\, BD21 2AT\, from 10 am to 3 pm. \n\n\n\nIn a joint event with Keighley Lions\, you can enjoy a traditional cream tea while browsing our bric-a-brac stall\, New 2 U stall (used visually impaired equipment)\, or take part in the Tombola\, our friends at Keighley Playhouse has kindly donated a pair of tickets to a show as a prize. \n\n\n\nProceeds from the event will be split between sight airedale and Keighley Lions.
URL:https://www.sightairedale.org.uk/event/coronation-cream-tea-10am-to-3pm
LOCATION:Lena Anderton Meeting Room\, 31 Scott Street\, Keighley\, BD21 2AT\, 31 Scott Street\, Keighley\, West Yorkshire\, BD21 2JH\, United Kingdom
END:VEVENT
BEGIN:VEVENT
DTSTART;TZID=UTC:20220324T100000
DTEND;TZID=UTC:20220324T110000
DTSTAMP:20260423T103013
CREATED:20220117T161231Z
LAST-MODIFIED:20220118T163206Z
UID:921-1648116000-1648119600@www.sightairedale.org.uk
SUMMARY:Future Vision TBA
DESCRIPTION:Zoom Link https://us02web.zoom.us/j/4580437872  Meeting ID: 458 043 7872To join via telephone dial 0203 481 5237 and when asked put in the Meeting ID: 458 043 7872 Catch up on past events at https://www.sightairedale.org.uk/…/future-vision…
URL:https://www.sightairedale.org.uk/event/future-vision-tba
LOCATION:Online via Zoom
CATEGORIES:Future Vision/Live Well
END:VEVENT
BEGIN:VEVENT
DTSTART;TZID=UTC:20220317T100000
DTEND;TZID=UTC:20220317T110000
DTSTAMP:20260423T103013
CREATED:20220117T161049Z
LAST-MODIFIED:20220118T163352Z
UID:919-1647511200-1647514800@www.sightairedale.org.uk
SUMMARY:Vicky Blencowe\,  helpful photography techniques if you're visually impaired
DESCRIPTION:Zoom Link https://us02web.zoom.us/j/4580437872  Meeting ID: 458 043 7872To join via telephone dial 0203 481 5237 and when asked put in the Meeting ID: 458 043 7872 Catch up on past events at https://www.sightairedale.org.uk/…/future-vision…
URL:https://www.sightairedale.org.uk/event/vicky-blencowe-helpful-photography-techniques-if-youre-visually-impaired
LOCATION:Online via Zoom
CATEGORIES:Future Vision/Live Well
END:VEVENT
BEGIN:VEVENT
DTSTART;TZID=UTC:20220310T100000
DTEND;TZID=UTC:20220310T110000
DTSTAMP:20260423T103013
CREATED:20220117T160021Z
LAST-MODIFIED:20220118T163433Z
UID:917-1646906400-1646910000@www.sightairedale.org.uk
SUMMARY:Glaucoma UK\, World Glaucoma Week.
DESCRIPTION:Zoom Link https://us02web.zoom.us/j/4580437872  Meeting ID: 458 043 7872To join via telephone dial 0203 481 5237 and when asked put in the Meeting ID: 458 043 7872 Catch up on past events at https://www.sightairedale.org.uk/…/future-vision…
URL:https://www.sightairedale.org.uk/event/glaucoma-uk-world-glaucoma-week
LOCATION:Online via Zoom
CATEGORIES:Future Vision/Live Well
END:VEVENT
BEGIN:VEVENT
DTSTART;TZID=UTC:20220303T100000
DTEND;TZID=UTC:20220303T110000
DTSTAMP:20260423T103013
CREATED:20220117T155314Z
LAST-MODIFIED:20220118T163509Z
UID:915-1646301600-1646305200@www.sightairedale.org.uk
SUMMARY:Learning to Cook with Sight Loss\, Simon Mahoney
DESCRIPTION:How do you cook when you’re totally blind and your wife dies at the start of a Pandemic? This was the situation faced by former Royal Marine Simon Mahoney in March 2020. His solution was to write a basic Kitchen survival guide called “First Catch your Rabbit” \n\n\n\nIn this talk Simon will tell his story\, how he organised his kitchen\, he will use a meal to demonstrate the method he devised. \n\n\n\nHow to Join\n\n\n\nZoom Link https://us02web.zoom.us/j/4580437872  Meeting ID: 458 043 7872To join via telephone dial 0203 481 5237 and when asked put in the Meeting ID: 458 043 7872 Catch up on past events at https://www.sightairedale.org.uk/…/future-vision…
URL:https://www.sightairedale.org.uk/event/learning-to-cook-with-sight-loss-simon-mahoney
LOCATION:Online via Zoom
CATEGORIES:Future Vision/Live Well
END:VEVENT
BEGIN:VEVENT
DTSTART;TZID=UTC:20220224T100000
DTEND;TZID=UTC:20220224T110000
DTSTAMP:20260423T103013
CREATED:20220117T155005Z
LAST-MODIFIED:20220118T163541Z
UID:913-1645696800-1645700400@www.sightairedale.org.uk
SUMMARY:Future Vision Technology Session - Speaker TBA
DESCRIPTION:Zoom Link https://us02web.zoom.us/j/4580437872  Meeting ID: 458 043 7872To join via telephone dial 0203 481 5237 and when asked put in the Meeting ID: 458 043 7872 Catch up on past events at https://www.sightairedale.org.uk/…/future-vision…
URL:https://www.sightairedale.org.uk/event/future-vision-technology-session-speaker-tba
LOCATION:Online via Zoom
CATEGORIES:Future Vision/Live Well
END:VEVENT
BEGIN:VEVENT
DTSTART;TZID=UTC:20220217T100000
DTEND;TZID=UTC:20220217T110000
DTSTAMP:20260423T103013
CREATED:20220117T154511Z
LAST-MODIFIED:20220118T163615Z
UID:911-1645092000-1645095600@www.sightairedale.org.uk
SUMMARY:Yoga for blind people Hannah Wroblewski
DESCRIPTION:Zoom Link https://us02web.zoom.us/j/4580437872  Meeting ID: 458 043 7872To join via telephone dial 0203 481 5237 and when asked put in the Meeting ID: 458 043 7872 Catch up on past events at https://www.sightairedale.org.uk/…/future-vision…
URL:https://www.sightairedale.org.uk/event/yoga-for-blind-people-hannah-wroblewski
LOCATION:Online via Zoom
CATEGORIES:Future Vision/Live Well
END:VEVENT
BEGIN:VEVENT
DTSTART;TZID=UTC:20220210T100000
DTEND;TZID=UTC:20220210T110000
DTSTAMP:20260423T103013
CREATED:20220117T154027Z
LAST-MODIFIED:20220118T163711Z
UID:908-1644487200-1644490800@www.sightairedale.org.uk
SUMMARY:Accessible phones workshop – Mark and David from Outlookers.
DESCRIPTION:How to Join\n\n\n\nZoom Link https://us02web.zoom.us/j/4580437872  Meeting ID: 458 043 7872To join via telephone dial 0203 481 5237 and when asked put in the Meeting ID: 458 043 7872 Catch up on past events at https://www.sightairedale.org.uk/…/future-vision…
URL:https://www.sightairedale.org.uk/event/accessible-phones-workshop-mark-and-david-from-outlookers
LOCATION:Online via Zoom
CATEGORIES:Future Vision/Live Well
END:VEVENT
BEGIN:VEVENT
DTSTART;TZID=UTC:20220203T100000
DTEND;TZID=UTC:20220203T110000
DTSTAMP:20260423T103013
CREATED:20220117T122500Z
LAST-MODIFIED:20220118T163747Z
UID:906-1643882400-1643886000@www.sightairedale.org.uk
SUMMARY:Judith Potts\, Esme’s Umbrella\, Charles Bonnet update on new research and awareness session
DESCRIPTION:Join Zoom Meeting \n\n\n\nhttps://us02web.zoom.us/j/4580437872 Meeting ID: 458 043 7872 \n\n\n\nFor those without technology or the internet\, you can join with your normal landline phone very easily\, details below. \n\n\n\nFOR THOSE ON LANDLINE PHONE dial 0203 481 5237 and when asked put in the Meeting ID: 458 043 7872 \n\n\n\nYou might be asked to enter hash at the end also.(bottom right button on phone dial). The call may be charged at a local rate\, however\, if like many people you have a free calls package it will probably be free\, if in doubt please check with your phone provider.
URL:https://www.sightairedale.org.uk/event/judith-potts-esmes-umbrella-charles-bonnet-update-on-new-research-and-awareness-session
LOCATION:Online via Zoom
CATEGORIES:Future Vision/Live Well
END:VEVENT
BEGIN:VEVENT
DTSTART;TZID=UTC:20220127T100000
DTEND;TZID=UTC:20220127T110000
DTSTAMP:20260423T103013
CREATED:20220117T122152Z
LAST-MODIFIED:20220121T121137Z
UID:904-1643277600-1643281200@www.sightairedale.org.uk
SUMMARY:Talking Mobile Phones with Mo Iqbal\, Taira Technology
DESCRIPTION:Join us along with the 6 other award-winning Rainbow Collaboration Group members for a Zoom Talk on Talking Mobile Phones with Mo Iqbal of Taira Technology \n\n\n\nTaira Technology is a family run business that helps blind and visually impaired individuals and organisations with all aspects of technology. \n\n\n\nThey offer many products and services to assist people living with sight loss with their equipment.  We will be talking to Omar and Mo\, who will be describing the products and services the company has to offer.  \n\n\n\nThey will be demonstrating the various talking mobile phones with buttons that they offer\, as well as accessories to make the iPhone easier to use.  The company also sell a product called the 6 Dot Labeller which is an excellent alternative to the Dymo gun\, which will be shown.  You can learn all about Taira Technology at:. \n\n\n\nSo please come and join us\, on Thursday\, January 27th at 10.00 am\, tell your friends and family! \n\n\n\nMeeting details are as follows. Please note this is a public event\, so please join us on Thursday at 10.00 AM on the following link below.  \n\n\n\nJoin Zoom Meeting \n\n\n\nhttps://us02web.zoom.us/j/4580437872 Meeting ID: 458 043 7872 \n\n\n\nFor those without technology or the internet\, you can join with your normal landline phone very easily\, details below. \n\n\n\nFOR THOSE ON LANDLINE PHONE dial 0203 481 5237 and when asked put in the Meeting ID: 458 043 7872 \n\n\n\nYou might be asked to enter hash at the end also.(bottom right button on phone dial). The call may be charged at a local rate\, however\, if like many people you have a free calls package it will probably be free\, if in doubt please check with your phone provider.
URL:https://www.sightairedale.org.uk/event/mo-iqbal-taira-technology-family-run-business-that-really-knows-about-the-needs-around-technology-for-people-with-sight-loss-presentation-and-q-a-session
LOCATION:Online via Zoom
CATEGORIES:Future Vision/Live Well
END:VEVENT
BEGIN:VEVENT
DTSTART;TZID=UTC:20220120T100000
DTEND;TZID=UTC:20220120T110000
DTSTAMP:20260423T103013
CREATED:20220117T101921Z
LAST-MODIFIED:20220118T163925Z
UID:902-1642672800-1642676400@www.sightairedale.org.uk
SUMMARY:Living with Macular Degeneration during the Covid-19 Restrictions with Suzanne Roberts of The Macular Society
DESCRIPTION:Join us along with the 6 other award-winning Rainbow Collaboration Group members for a Zoom Talk on Living with Macular Degeneration during the Covid-19 Restrictions with Suzanne Roberts of The Macular Society.Suzanne will talk about the emotional effects of macular degeneration\, both before the pandemic and effects the pandemic may have had on peoples lives. Suzanne will encourage anyone who wishes to share their thoughts\, insights and experiences with others to speak to\, but if you just want to listen that’s perfect to. \n\n\n\nSo please come and join us\, on Thursday\, January 20th at 10.00 am\, tell your friends and family! \n\n\n\nMeeting details are as follows. Please note this is a public event\, so please join us on Thursday at 10.00 AM on the following link below.  \n\n\n\nJoin Zoom Meeting \n\n\n\nhttps://us02web.zoom.us/j/4580437872 Meeting ID: 458 043 7872 \n\n\n\nFor those without technology or the internet\, you can join with your normal landline phone very easily\, details below. \n\n\n\nFOR THOSE ON LANDLINE PHONE dial 0203 481 5237 and when asked put in the Meeting ID: 458 043 7872 \n\n\n\nYou might be asked to enter hash at the end also.(bottom right button on phone dial). The call may be charged at a local rate\, however\, if like many people you have a free calls package it will probably be free\, if in doubt please check with your phone provider.
URL:https://www.sightairedale.org.uk/event/living-with-macular-degeneration-during-the-covid-19-restrictions-with-suzanne-roberts-of-the-macular-society
LOCATION:Online via Zoom
CATEGORIES:Future Vision/Live Well
END:VEVENT
BEGIN:VEVENT
DTSTART;TZID=UTC:20220113T100000
DTEND;TZID=UTC:20220113T110000
DTSTAMP:20260423T103013
CREATED:20220107T112825Z
LAST-MODIFIED:20220118T162527Z
UID:888-1642068000-1642071600@www.sightairedale.org.uk
SUMMARY:Developments within gene therapy by Dr Jasleen Kaur Jolly\,
DESCRIPTION:Join us and the 6 other members of the Award Winning Rainbow Collaboration Group for the first Living Well with Sight Loss session for 2022 where Dr Jasleen Kaur Jolly\, from Anglia Ruskin College oxford\, will give a talk about research into gene therapy and sight conditions. . Dr Jasleen Kaur Jolly can update us all on some of the innovative and exciting developments around Gene therapy trials on genetic eye diseases (currently being led by Oxford Uni). This includes. \n\nThe psychological impact of sight loss\nNew treatments\nWhat participating in research means\nWelcomes ideas for new research projects\n\nThis promises to be an excellent hour.  So please come and join us\, on Thursday January 13th  at 10.00 am\, tell your friends and family!  Meeting details are as follows.   Please note this is a public event\, so please  join us on Thursday at 10.00 AM on the following link below.   Join Zoom Meeting \nhttps://us02web.zoom.us/j/4580437872   Meeting ID: 458 043 7872 \nFor those without technology or the internet\, you can join with your normal landline phone very easily\, details below.  FOR THOSE ON LANDLINE PHONE \ndial 0203 481 5237 and when asked put in the Meeting ID: 458 043 7872 \nYou might be asked to enter hash at the end also.(bottom right button on phone dial).  The call may be charged at a local rate\, however if like many people you have a free calls package it will probably be free\, if in doubt please check with your phone provider.
URL:https://www.sightairedale.org.uk/event/developments-within-gene-therapy-by-dr-jazleen-kaur-jolly
LOCATION:West Yorkshire
CATEGORIES:Future Vision/Live Well
ORGANIZER;CN="sight airedale":MAILTO:enquiries@sightairedale.org.uk
END:VEVENT
BEGIN:VEVENT
DTSTART;TZID=UTC:20210624T100000
DTEND;TZID=UTC:20210624T113000
DTSTAMP:20260423T103013
CREATED:20210615T100157Z
LAST-MODIFIED:20220118T162528Z
UID:749-1624528800-1624534200@www.sightairedale.org.uk
SUMMARY:Future Vision Workshop - "Supported" Video Technology presented by Tim Ward\, Sight Advice South Lakes
DESCRIPTION:Sight Advice South Lakes Cumbria\, would like to invite you and your friends to a joint technology event on Zoom with 5 other Independent Sight Societies from around the country and supported by Visionary as part of our monthly  “Future Vision” programme. \nTim Ward from Sight Advice South Lakes will showcase “supported” video Technology. All technology that Tim will showcase can be used by people who have any level of sight loss\, including non sighted. \nBe my eyes\, Envision and Aira are amongst some of the technology that will be presented during the workshop.  As the event is a workshop format\,  feel free to join in and ask questions about this technology and other technology\, as there are several “experts” online from the six sight loss organisations.  So please come and join us\, on Thursday June 24th at 10.00 am\, tell your friends and family!  Meeting details are as follows.   Please note this is a public event\, so please  join us on Thursday at 10.00 AM on the following link below. \nhttps://us02web.zoom.us/j/4580437872 \nZoom ID: 458 043 7872 \nFor those without technology or the internet\, you can join with your normal landline phone very easily\, details below. \nFOR THOSE ON LANDLINE PHONE \ndial 0203 481 5237 and when asked put in the Meeting ID: 458 043 7872 \nYou might be asked to enter hash at the end also.(bottom right button on phone dial).  The call may be charged at a local rate\, however if like many people you have a free calls package it will probably be free\, if in doubt please check with your phone provider.
URL:https://www.sightairedale.org.uk/event/future-vision-workshop-supported-video-technology-presented-by-tim-ward-sight-advice-south-lakes
LOCATION:West Yorkshire
CATEGORIES:Future Vision/Live Well
END:VEVENT
END:VCALENDAR